Package: cghMCR Version: 1.64.0 Command: /home/biocbuild/R/R/bin/R CMD build --keep-empty-dirs --no-resave-data cghMCR StartedAt: 2025-02-03 22:32:26 -0000 (Mon, 03 Feb 2025) EndedAt: 2025-02-03 22:33:45 -0000 (Mon, 03 Feb 2025) EllapsedTime: 79.0 seconds RetCode: 0 Status: OK PackageFile: cghMCR_1.64.0.tar.gz PackageFileSize: 36.1 MiB