Package: cghMCR Version: 1.64.0 Command: /home/biocbuild/R/R/bin/R CMD INSTALL cghMCR StartedAt: 2025-02-03 21:11:46 -0000 (Mon, 03 Feb 2025) EndedAt: 2025-02-03 21:12:12 -0000 (Mon, 03 Feb 2025) EllapsedTime: 26.2 seconds RetCode: 0 Status: OK