Package: chihaya Version: 1.6.0 Command: /Library/Frameworks/R.framework/Resources/bin/R CMD INSTALL chihaya StartedAt: 2025-02-03 15:22:28 -0500 (Mon, 03 Feb 2025) EndedAt: 2025-02-03 15:23:03 -0500 (Mon, 03 Feb 2025) EllapsedTime: 35.3 seconds RetCode: 0 Status: OK