Package: chihaya
Version: 1.6.0
Command: /home/biocbuild/R/R/bin/R CMD INSTALL chihaya
StartedAt: 2024-11-19 20:35:19 -0000 (Tue, 19 Nov 2024)
EndedAt: 2024-11-19 20:36:13 -0000 (Tue, 19 Nov 2024)
EllapsedTime: 53.6 seconds
RetCode: 0
Status: OK