Package: chihaya Version: 1.6.0 Command: F:\biocbuild\bbs-3.20-bioc\R\bin\R.exe CMD check --no-multiarch --install=check:chihaya.install-out.txt --library=F:\biocbuild\bbs-3.20-bioc\R\library --no-vignettes --timings chihaya_1.6.0.tar.gz StartedAt: 2025-02-04 00:11:49 -0500 (Tue, 04 Feb 2025) EndedAt: 2025-02-04 00:15:41 -0500 (Tue, 04 Feb 2025) EllapsedTime: 232.3 seconds RetCode: 0 Status: OK CheckDir: chihaya.Rcheck Warnings: 0