Package: chihaya
Version: 1.6.0
Command: /home/biocbuild/bbs-3.20-bioc/R/bin/R CMD check --install=check:chihaya.install-out.txt --library=/home/biocbuild/bbs-3.20-bioc/R/site-library --timings chihaya_1.6.0.tar.gz
StartedAt: 2024-11-20 00:12:44 -0500 (Wed, 20 Nov 2024)
EndedAt: 2024-11-20 00:14:53 -0500 (Wed, 20 Nov 2024)
EllapsedTime: 129.6 seconds
RetCode: 0
Status: WARNINGS
CheckDir: chihaya.Rcheck
Warnings: 1