Package: chipenrich
Version: 2.30.0
Command: rm -rf chipenrich.buildbin-libdir && mkdir chipenrich.buildbin-libdir && /Users/biocbuild/BBS/utils/build-universal.sh chipenrich_2.30.0.tar.gz /Library/Frameworks/R.framework/Resources/bin/R chipenrich.buildbin-libdir
StartedAt: 2024-11-09 16:41:47 -0500 (Sat, 09 Nov 2024)
EndedAt: 2024-11-09 16:42:05 -0500 (Sat, 09 Nov 2024)
EllapsedTime: 18.2 seconds
RetCode: 0
Status: OK
PackageFile: chipenrich_2.30.0.tgz
PackageFileSize: 882.5 <A href="http://en.wikipedia.org/wiki/KiB" target="_blank">KiB</A>