Package: chipenrich
Version: 2.30.0
Command: /Library/Frameworks/R.framework/Resources/bin/R CMD INSTALL chipenrich
StartedAt: 2024-11-08 15:42:26 -0500 (Fri, 08 Nov 2024)
EndedAt: 2024-11-08 15:42:43 -0500 (Fri, 08 Nov 2024)
EllapsedTime: 16.4 seconds
RetCode: 0
Status: OK