Package: chipenrich Version: 2.30.0 Command: /Library/Frameworks/R.framework/Resources/bin/R CMD build --keep-empty-dirs --no-resave-data chipenrich StartedAt: 2025-02-03 17:49:04 -0500 (Mon, 03 Feb 2025) EndedAt: 2025-02-03 17:52:05 -0500 (Mon, 03 Feb 2025) EllapsedTime: 181.4 seconds RetCode: 0 Status: OK PackageFile: chipenrich_2.30.0.tar.gz PackageFileSize: 653.6 KiB