Package: chipenrich Version: 2.30.0 Command: /home/biocbuild/bbs-3.20-bioc/R/bin/R CMD INSTALL chipenrich StartedAt: 2025-02-03 15:56:15 -0500 (Mon, 03 Feb 2025) EndedAt: 2025-02-03 15:57:03 -0500 (Mon, 03 Feb 2025) EllapsedTime: 47.8 seconds RetCode: 0 Status: OK