Package: chipenrich Version: 2.30.0 Command: chmod a+r chipenrich -R && F:\biocbuild\bbs-3.20-bioc\R\bin\R.exe CMD build --keep-empty-dirs --no-resave-data chipenrich StartedAt: 2025-02-03 18:05:59 -0500 (Mon, 03 Feb 2025) EndedAt: 2025-02-03 18:08:11 -0500 (Mon, 03 Feb 2025) EllapsedTime: 131.7 seconds RetCode: 0 Status: OK PackageFile: chipenrich_2.30.0.tar.gz PackageFileSize: 439.4 KiB