Package: chipenrich
Version: 2.30.0
Command: F:\biocbuild\bbs-3.20-bioc\R\bin\R.exe CMD check --no-multiarch --install=check:chipenrich.install-out.txt --library=F:\biocbuild\bbs-3.20-bioc\R\library --no-vignettes --timings chipenrich_2.30.0.tar.gz
StartedAt: 2025-02-17 23:56:44 -0500 (Mon, 17 Feb 2025)
EndedAt: 2025-02-18 00:06:19 -0500 (Tue, 18 Feb 2025)
EllapsedTime: 575.3 seconds
RetCode: 1
Status: ERROR
CheckDir: chipenrich.Rcheck
Warnings: NA