Package: chipenrich Version: 2.30.0 Command: F:\biocbuild\bbs-3.20-bioc\R\bin\R.exe CMD INSTALL chipenrich StartedAt: 2025-02-03 16:47:00 -0500 (Mon, 03 Feb 2025) EndedAt: 2025-02-03 16:48:22 -0500 (Mon, 03 Feb 2025) EllapsedTime: 81.8 seconds RetCode: 0 Status: OK