Package: chipenrich Version: 2.30.0 Command: /home/biocbuild/R/R/bin/R CMD build --keep-empty-dirs --no-resave-data chipenrich StartedAt: 2025-02-03 22:33:43 -0000 (Mon, 03 Feb 2025) EndedAt: 2025-02-03 22:35:41 -0000 (Mon, 03 Feb 2025) EllapsedTime: 118.0 seconds RetCode: 0 Status: OK PackageFile: chipenrich_2.30.0.tar.gz PackageFileSize: 534.6 KiB