Package: chopsticks Version: 1.72.0 Command: /home/biocbuild/bbs-3.20-bioc/R/bin/R CMD check --install=check:chopsticks.install-out.txt --library=/home/biocbuild/bbs-3.20-bioc/R/site-library --timings chopsticks_1.72.0.tar.gz StartedAt: 2025-02-03 20:57:11 -0500 (Mon, 03 Feb 2025) EndedAt: 2025-02-03 20:58:11 -0500 (Mon, 03 Feb 2025) EllapsedTime: 60.1 seconds RetCode: 0 Status: WARNINGS CheckDir: chopsticks.Rcheck Warnings: 3