Package: chopsticks Version: 1.72.0 Command: /home/biocbuild/bbs-3.20-bioc/R/bin/R CMD INSTALL chopsticks StartedAt: 2025-02-03 15:49:53 -0500 (Mon, 03 Feb 2025) EndedAt: 2025-02-03 15:50:09 -0500 (Mon, 03 Feb 2025) EllapsedTime: 15.5 seconds RetCode: 0 Status: OK