Package: chromDraw Version: 2.36.0 Command: chmod a+r chromDraw -R && F:\biocbuild\bbs-3.20-bioc\R\bin\R.exe CMD build --keep-empty-dirs --no-resave-data chromDraw StartedAt: 2025-02-03 18:07:31 -0500 (Mon, 03 Feb 2025) EndedAt: 2025-02-03 18:08:53 -0500 (Mon, 03 Feb 2025) EllapsedTime: 81.6 seconds RetCode: 0 Status: OK PackageFile: chromDraw_2.36.0.tar.gz PackageFileSize: 2.127 MiB