Package: chromPlot Version: 1.34.0 Command: /home/biocbuild/R/R/bin/R CMD build --keep-empty-dirs --no-resave-data chromPlot StartedAt: 2025-01-30 22:36:10 -0000 (Thu, 30 Jan 2025) EndedAt: 2025-01-30 22:36:59 -0000 (Thu, 30 Jan 2025) EllapsedTime: 49.0 seconds RetCode: 0 Status: OK PackageFile: chromPlot_1.34.0.tar.gz PackageFileSize: 1.514 MiB