Package: chromPlot Version: 1.34.0 Command: /home/biocbuild/R/R/bin/R CMD INSTALL chromPlot StartedAt: 2025-01-30 20:34:47 -0000 (Thu, 30 Jan 2025) EndedAt: 2025-01-30 20:35:08 -0000 (Thu, 30 Jan 2025) EllapsedTime: 20.7 seconds RetCode: 0 Status: OK