Package: chromstaR Version: 1.32.0 Command: /Library/Frameworks/R.framework/Resources/bin/R CMD build --keep-empty-dirs --no-resave-data chromstaR StartedAt: 2025-02-03 20:37:26 -0500 (Mon, 03 Feb 2025) EndedAt: 2025-02-03 20:42:50 -0500 (Mon, 03 Feb 2025) EllapsedTime: 323.6 seconds RetCode: 0 Status: OK PackageFile: chromstaR_1.32.0.tar.gz PackageFileSize: 6.776 MiB