Package: chromstaR Version: 1.32.0 Command: /Library/Frameworks/R.framework/Resources/bin/R CMD check --install=check:chromstaR.install-out.txt --library=/Library/Frameworks/R.framework/Resources/library --no-vignettes --timings chromstaR_1.32.0.tar.gz StartedAt: 2025-01-31 14:20:37 -0500 (Fri, 31 Jan 2025) EndedAt: 2025-01-31 14:28:55 -0500 (Fri, 31 Jan 2025) EllapsedTime: 498.2 seconds RetCode: 0 Status: OK CheckDir: chromstaR.Rcheck Warnings: 0