Package: chromstaR Version: 1.32.0 Command: /Library/Frameworks/R.framework/Resources/bin/R CMD INSTALL chromstaR StartedAt: 2025-01-30 15:32:34 -0500 (Thu, 30 Jan 2025) EndedAt: 2025-01-30 15:34:02 -0500 (Thu, 30 Jan 2025) EllapsedTime: 88.1 seconds RetCode: 0 Status: OK