Package: chromstaR Version: 1.32.0 Command: F:\biocbuild\bbs-3.20-bioc\R\bin\R.exe CMD INSTALL chromstaR StartedAt: 2025-01-30 16:00:03 -0500 (Thu, 30 Jan 2025) EndedAt: 2025-01-30 16:01:15 -0500 (Thu, 30 Jan 2025) EllapsedTime: 71.8 seconds RetCode: 0 Status: OK