Package: chromstaR Version: 1.32.0 Command: /home/biocbuild/R/R/bin/R CMD build --keep-empty-dirs --no-resave-data chromstaR StartedAt: 2025-01-30 22:36:42 -0000 (Thu, 30 Jan 2025) EndedAt: 2025-01-30 22:42:36 -0000 (Thu, 30 Jan 2025) EllapsedTime: 353.6 seconds RetCode: 0 Status: OK PackageFile: chromstaR_1.32.0.tar.gz PackageFileSize: 6.768 MiB