############################################################################## ############################################################################## ### ### Running command: ### ### /home/biocbuild/R/R/bin/R CMD check --install=check:chromstaR.install-out.txt --library=/home/biocbuild/R/R/site-library --no-vignettes --timings chromstaR_1.32.0.tar.gz ### ############################################################################## ############################################################################## * using log directory ‘/home/biocbuild/bbs-3.20-bioc/meat/chromstaR.Rcheck’ * using R version 4.4.2 (2024-10-31) * using platform: aarch64-unknown-linux-gnu * R was compiled by aarch64-unknown-linux-gnu-gcc (GCC) 14.2.0 GNU Fortran (GCC) 12.3.1 (openEuler 12.3.1-36.oe2403) * running under: openEuler 24.03 (LTS) * using session charset: UTF-8 * using option ‘--no-vignettes’ * checking for file ‘chromstaR/DESCRIPTION’ ... OK * checking extension type ... Package * this is package ‘chromstaR’ version ‘1.32.0’ * checking package namespace information ... OK * checking package dependencies ... OK * checking if this is a source package ... OK * checking if there is a namespace ... OK * checking for hidden files and directories ... OK * checking for portable file names ... OK * checking for sufficient/correct file permissions ... OK * checking whether package ‘chromstaR’ can be installed ... OK * used C++ compiler: ‘aarch64-unknown-linux-gnu-g++ (GCC) 14.2.0’ * checking installed package size ... NOTE installed size is 5.8Mb sub-directories of 1Mb or more: data 4.5Mb * checking package directory ... OK * checking ‘build’ directory ... OK * checking DESCRIPTION meta-information ... OK * checking top-level files ... OK * checking for left-over files ... OK * checking index information ... OK * checking package subdirectories ... OK * checking code files for non-ASCII characters ... OK * checking R files for syntax errors ... OK * checking whether the package can be loaded ... OK * checking whether the package can be loaded with stated dependencies ... OK * checking whether the package can be unloaded cleanly ... OK * checking whether the namespace can be loaded with stated dependencies ... OK * checking whether the namespace can be unloaded cleanly ... OK * checking loading without being on the library search path ... OK * checking whether startup messages can be suppressed ... OK * checking dependencies in R code ... OK * checking S3 generic/method consistency ... OK * checking replacement functions ... OK * checking foreign function calls ... OK * checking R code for possible problems ... NOTE Chromstar: multiple local function definitions for ‘parallel.helper’ with different formal arguments * checking Rd files ... NOTE checkRd: (-1) callPeaksUnivariate.Rd:66: Lost braces 66 | \item{post.cutoff}{False discovery rate. code{NULL} means that the state with maximum posterior probability will be chosen, irrespective of its absolute probability (default=code{NULL}).} | ^ checkRd: (-1) callPeaksUnivariate.Rd:66: Lost braces 66 | \item{post.cutoff}{False discovery rate. code{NULL} means that the state with maximum posterior probability will be chosen, irrespective of its absolute probability (default=code{NULL}).} | ^ checkRd: (-1) callPeaksUnivariateAllChr.Rd:60: Lost braces 60 | \item{post.cutoff}{False discovery rate. code{NULL} means that the state with maximum posterior probability will be chosen, irrespective of its absolute probability (default=code{NULL}).} | ^ checkRd: (-1) callPeaksUnivariateAllChr.Rd:60: Lost braces 60 | \item{post.cutoff}{False discovery rate. code{NULL} means that the state with maximum posterior probability will be chosen, irrespective of its absolute probability (default=code{NULL}).} | ^ checkRd: (-1) plotGenomeBrowser.Rd:28-68: Lost braces 28 | plotGenomeBrowser2 <- function(counts, peaklist=NULL, chr, start, end, countcol='black', peakcols=NULL, style='peaks', peakTrackHeight=5) { | ^ checkRd: (-1) plotGenomeBrowser.Rd:36-41: Lost braces 36 | if (style == 'peaks') { | ^ checkRd: (-1) plotGenomeBrowser.Rd:41-45: Lost braces 41 | } else if (style == 'density') { | ^ checkRd: (-1) plotGenomeBrowser.Rd:45-47: Lost braces 45 | } else { | ^ checkRd: (-1) plotGenomeBrowser.Rd:50-65: Lost braces 50 | if (!is.null(peaklist)) { | ^ checkRd: (-1) plotGenomeBrowser.Rd:51-53: Lost braces 51 | if (is.null(peakcols)) { | ^ checkRd: (-1) plotGenomeBrowser.Rd:54-64: Lost braces 54 | for (i1 in 1:length(peaklist)) { | ^ checkRd: (-1) plotGenomeBrowser.Rd:57-60: Lost braces 57 | if (length(peaks) > 0) { | ^ * checking Rd metadata ... OK * checking Rd cross-references ... OK * checking for missing documentation entries ... OK * checking for code/documentation mismatches ... OK * checking Rd \usage sections ... OK * checking Rd contents ... OK * checking for unstated dependencies in examples ... OK * checking contents of ‘data’ directory ... OK * checking data for non-ASCII characters ... OK * checking data for ASCII and uncompressed saves ... OK * checking line endings in C/C++/Fortran sources/headers ... OK * checking line endings in Makefiles ... OK * checking compilation flags in Makevars ... OK * checking for GNU extensions in Makefiles ... OK * checking for portable use of $(BLAS_LIBS) and $(LAPACK_LIBS) ... OK * checking use of PKG_*FLAGS in Makefiles ... OK * checking compiled code ... NOTE Note: information on .o files is not available * checking files in ‘vignettes’ ... OK * checking examples ... OK Examples with CPU (user + system) or elapsed time > 5s user system elapsed combineMultivariates 31.847 0.278 32.261 enrichment_analysis 17.704 1.519 21.880 callPeaksMultivariate 13.392 0.342 13.788 plotGenomeBrowser 11.047 1.159 12.245 callPeaksReplicates 11.782 0.184 12.012 unis2pseudomulti 9.783 0.176 9.990 combinatorialStates 9.208 0.064 9.305 changePostCutoff 8.108 0.120 8.256 Chromstar 6.978 0.549 47.909 readCustomBedFile 5.564 0.160 5.742 changeMaxPostCutoff 5.037 0.079 5.133 plotExpression 3.738 0.310 7.106 * checking for unstated dependencies in ‘tests’ ... OK * checking tests ... Running ‘testthat.R’ OK * checking for unstated dependencies in vignettes ... OK * checking package vignettes ... OK * checking running R code from vignettes ... SKIPPED * checking re-building of vignette outputs ... SKIPPED * checking PDF version of manual ... OK * DONE Status: 4 NOTEs See ‘/home/biocbuild/bbs-3.20-bioc/meat/chromstaR.Rcheck/00check.log’ for details.