Package: chromstaR Version: 1.32.0 Command: /home/biocbuild/R/R/bin/R CMD INSTALL chromstaR StartedAt: 2025-01-30 20:22:43 -0000 (Thu, 30 Jan 2025) EndedAt: 2025-01-30 20:23:33 -0000 (Thu, 30 Jan 2025) EllapsedTime: 50.1 seconds RetCode: 0 Status: OK