Package: circRNAprofiler Version: 1.20.0 Command: rm -rf circRNAprofiler.buildbin-libdir && mkdir circRNAprofiler.buildbin-libdir && /Users/biocbuild/BBS/utils/build-universal.sh circRNAprofiler_1.20.0.tar.gz /Library/Frameworks/R.framework/Resources/bin/R circRNAprofiler.buildbin-libdir StartedAt: 2025-02-05 15:14:24 -0500 (Wed, 05 Feb 2025) EndedAt: 2025-02-05 15:15:31 -0500 (Wed, 05 Feb 2025) EllapsedTime: 66.5 seconds RetCode: 0 Status: OK PackageFile: circRNAprofiler_1.20.0.tgz PackageFileSize: 3.553 MiB