Package: circRNAprofiler Version: 1.20.0 Command: /Library/Frameworks/R.framework/Resources/bin/R CMD build --keep-empty-dirs --no-resave-data circRNAprofiler StartedAt: 2025-01-30 20:51:10 -0500 (Thu, 30 Jan 2025) EndedAt: 2025-01-30 20:52:58 -0500 (Thu, 30 Jan 2025) EllapsedTime: 107.7 seconds RetCode: 0 Status: OK PackageFile: circRNAprofiler_1.20.0.tar.gz PackageFileSize: 3.716 MiB