Package: circRNAprofiler Version: 1.20.0 Command: /Library/Frameworks/R.framework/Resources/bin/R CMD INSTALL circRNAprofiler StartedAt: 2025-01-30 16:26:19 -0500 (Thu, 30 Jan 2025) EndedAt: 2025-01-30 16:28:07 -0500 (Thu, 30 Jan 2025) EllapsedTime: 108.0 seconds RetCode: 0 Status: OK