Package: circRNAprofiler Version: 1.20.0 Command: /home/biocbuild/bbs-3.20-bioc/R/bin/R CMD check --install=check:circRNAprofiler.install-out.txt --library=/home/biocbuild/bbs-3.20-bioc/R/site-library --timings circRNAprofiler_1.20.0.tar.gz StartedAt: 2025-01-30 20:49:40 -0500 (Thu, 30 Jan 2025) EndedAt: 2025-01-30 21:00:10 -0500 (Thu, 30 Jan 2025) EllapsedTime: 629.7 seconds RetCode: 0 Status: OK CheckDir: circRNAprofiler.Rcheck Warnings: 0