Package: circRNAprofiler Version: 1.20.0 Command: /home/biocbuild/R/R/bin/R CMD build --keep-empty-dirs --no-resave-data circRNAprofiler StartedAt: 2025-01-30 22:37:23 -0000 (Thu, 30 Jan 2025) EndedAt: 2025-01-30 22:39:10 -0000 (Thu, 30 Jan 2025) EllapsedTime: 106.5 seconds RetCode: 0 Status: OK PackageFile: circRNAprofiler_1.20.0.tar.gz PackageFileSize: 3.522 MiB