Package: cisPath Version: 1.46.0 Command: /Library/Frameworks/R.framework/Resources/bin/R CMD build --keep-empty-dirs --no-resave-data cisPath StartedAt: 2025-02-10 20:56:54 -0500 (Mon, 10 Feb 2025) EndedAt: 2025-02-10 20:57:21 -0500 (Mon, 10 Feb 2025) EllapsedTime: 26.7 seconds RetCode: 0 Status: OK PackageFile: cisPath_1.46.0.tar.gz PackageFileSize: 1.032 MiB