Package: cisPath Version: 1.46.0 Command: /Library/Frameworks/R.framework/Resources/bin/R CMD check --install=check:cisPath.install-out.txt --library=/Library/Frameworks/R.framework/Resources/library --no-vignettes --timings cisPath_1.46.0.tar.gz StartedAt: 2025-02-11 14:38:47 -0500 (Tue, 11 Feb 2025) EndedAt: 2025-02-11 14:39:14 -0500 (Tue, 11 Feb 2025) EllapsedTime: 27.1 seconds RetCode: 0 Status: WARNINGS CheckDir: cisPath.Rcheck Warnings: 2