Package: cisPath Version: 1.46.0 Command: /Library/Frameworks/R.framework/Resources/bin/R CMD INSTALL cisPath StartedAt: 2025-02-03 15:08:48 -0500 (Mon, 03 Feb 2025) EndedAt: 2025-02-03 15:09:02 -0500 (Mon, 03 Feb 2025) EllapsedTime: 13.4 seconds RetCode: 0 Status: OK