Package: cisPath Version: 1.46.0 Command: /home/biocbuild/bbs-3.20-bioc/R/bin/R CMD INSTALL cisPath StartedAt: 2025-02-10 15:11:49 -0500 (Mon, 10 Feb 2025) EndedAt: 2025-02-10 15:12:03 -0500 (Mon, 10 Feb 2025) EllapsedTime: 14.1 seconds RetCode: 0 Status: OK