Package: cisPath Version: 1.46.0 Command: /home/biocbuild/R/R/bin/R CMD build --keep-empty-dirs --no-resave-data cisPath StartedAt: 2025-02-03 22:37:00 -0000 (Mon, 03 Feb 2025) EndedAt: 2025-02-03 22:37:14 -0000 (Mon, 03 Feb 2025) EllapsedTime: 14.0 seconds RetCode: 1 Status: ERROR PackageFile: None PackageFileSize: NA