Package: cleanUpdTSeq Version: 1.44.0 Command: /Library/Frameworks/R.framework/Resources/bin/R CMD INSTALL cleanUpdTSeq StartedAt: 2025-02-10 16:13:14 -0500 (Mon, 10 Feb 2025) EndedAt: 2025-02-10 16:14:39 -0500 (Mon, 10 Feb 2025) EllapsedTime: 84.9 seconds RetCode: 0 Status: OK