Package: cleanUpdTSeq Version: 1.44.0 Command: rm -rf cleanUpdTSeq.buildbin-libdir && mkdir cleanUpdTSeq.buildbin-libdir && /Users/biocbuild/BBS/utils/build-universal.sh cleanUpdTSeq_1.44.0.tar.gz /Library/Frameworks/R.framework/Resources/bin/R cleanUpdTSeq.buildbin-libdir StartedAt: 2025-02-04 12:40:07 -0500 (Tue, 04 Feb 2025) EndedAt: 2025-02-04 12:42:34 -0500 (Tue, 04 Feb 2025) EllapsedTime: 147.4 seconds RetCode: 0 Status: OK PackageFile: cleanUpdTSeq_1.44.0.tgz PackageFileSize: 5.545 MiB