Package: cleanUpdTSeq Version: 1.44.0 Command: /Library/Frameworks/R.framework/Resources/bin/R CMD build --keep-empty-dirs --no-resave-data cleanUpdTSeq StartedAt: 2025-02-03 17:53:24 -0500 (Mon, 03 Feb 2025) EndedAt: 2025-02-03 17:56:38 -0500 (Mon, 03 Feb 2025) EllapsedTime: 194.4 seconds RetCode: 0 Status: OK PackageFile: cleanUpdTSeq_1.44.0.tar.gz PackageFileSize: 4.008 MiB