Package: cleanUpdTSeq Version: 1.44.0 Command: /Library/Frameworks/R.framework/Resources/bin/R CMD check --install=check:cleanUpdTSeq.install-out.txt --library=/Library/Frameworks/R.framework/Resources/library --no-vignettes --timings cleanUpdTSeq_1.44.0.tar.gz StartedAt: 2025-02-04 01:17:40 -0500 (Tue, 04 Feb 2025) EndedAt: 2025-02-04 01:28:11 -0500 (Tue, 04 Feb 2025) EllapsedTime: 630.4 seconds RetCode: 0 Status: OK CheckDir: cleanUpdTSeq.Rcheck Warnings: 0