Package: cleanUpdTSeq Version: 1.44.0 Command: /home/biocbuild/bbs-3.20-bioc/R/bin/R CMD check --install=check:cleanUpdTSeq.install-out.txt --library=/home/biocbuild/bbs-3.20-bioc/R/site-library --timings cleanUpdTSeq_1.44.0.tar.gz StartedAt: 2025-02-03 21:00:43 -0500 (Mon, 03 Feb 2025) EndedAt: 2025-02-03 21:05:27 -0500 (Mon, 03 Feb 2025) EllapsedTime: 283.3 seconds RetCode: 0 Status: OK CheckDir: cleanUpdTSeq.Rcheck Warnings: 0