Package: cleanUpdTSeq Version: 1.44.0 Command: chmod a+r cleanUpdTSeq -R && F:\biocbuild\bbs-3.20-bioc\R\bin\R.exe CMD build --keep-empty-dirs --no-resave-data cleanUpdTSeq StartedAt: 2025-02-03 18:10:44 -0500 (Mon, 03 Feb 2025) EndedAt: 2025-02-03 18:12:34 -0500 (Mon, 03 Feb 2025) EllapsedTime: 109.8 seconds RetCode: 0 Status: OK PackageFile: cleanUpdTSeq_1.44.0.tar.gz PackageFileSize: 4.008 MiB