Package: cleaver Version: 1.44.0 Command: /Library/Frameworks/R.framework/Resources/bin/R CMD build --keep-empty-dirs --no-resave-data cleaver StartedAt: 2025-02-03 20:49:41 -0500 (Mon, 03 Feb 2025) EndedAt: 2025-02-03 20:50:03 -0500 (Mon, 03 Feb 2025) EllapsedTime: 21.4 seconds RetCode: 0 Status: OK PackageFile: cleaver_1.44.0.tar.gz PackageFileSize: 344.6 KiB