Package: cleaver
Version: 1.44.0
Command: /Library/Frameworks/R.framework/Resources/bin/R CMD INSTALL cleaver
StartedAt: 2024-11-19 15:09:35 -0500 (Tue, 19 Nov 2024)
EndedAt: 2024-11-19 15:09:51 -0500 (Tue, 19 Nov 2024)
EllapsedTime: 15.9 seconds
RetCode: 0
Status: OK