Package: cleaver
Version: 1.44.0
Command: /Library/Frameworks/R.framework/Resources/bin/R CMD check --install=check:cleaver.install-out.txt --library=/Library/Frameworks/R.framework/Resources/library --no-vignettes --timings cleaver_1.44.0.tar.gz
StartedAt: 2025-02-18 01:11:08 -0500 (Tue, 18 Feb 2025)
EndedAt: 2025-02-18 01:13:45 -0500 (Tue, 18 Feb 2025)
EllapsedTime: 157.5 seconds
RetCode: 0
Status: OK
CheckDir: cleaver.Rcheck
Warnings: 0