Package: cleaver Version: 1.44.0 Command: /home/biocbuild/R/R/bin/R CMD build --keep-empty-dirs --no-resave-data cleaver StartedAt: 2025-02-03 22:38:17 -0000 (Mon, 03 Feb 2025) EndedAt: 2025-02-03 22:38:43 -0000 (Mon, 03 Feb 2025) EllapsedTime: 26.0 seconds RetCode: 0 Status: OK PackageFile: cleaver_1.44.0.tar.gz PackageFileSize: 389.3 KiB