Package: clevRvis Version: 1.6.0 Command: /Library/Frameworks/R.framework/Resources/bin/R CMD build --keep-empty-dirs --no-resave-data clevRvis StartedAt: 2025-02-03 20:50:03 -0500 (Mon, 03 Feb 2025) EndedAt: 2025-02-03 20:50:31 -0500 (Mon, 03 Feb 2025) EllapsedTime: 28.0 seconds RetCode: 0 Status: OK PackageFile: clevRvis_1.6.0.tar.gz PackageFileSize: 2.374 MiB