##############################################################################
##############################################################################
###
### Running command:
###
###   /home/biocbuild/R/R/bin/R CMD build --keep-empty-dirs --no-resave-data clevRvis
###
##############################################################################
##############################################################################


* checking for file ‘clevRvis/DESCRIPTION’ ... OK
* preparing ‘clevRvis’:
* checking DESCRIPTION meta-information ... OK
* installing the package to process help pages
* saving partial Rd database
* creating vignettes ... OK
* checking for LF line-endings in source and make files and shell scripts
* checking for empty or unneeded directories
Omitted ‘LazyData’ from DESCRIPTION
* building ‘clevRvis_1.6.0.tar.gz’