Package: clevRvis
Version: 1.6.0
Command: /home/biocbuild/R/R/bin/R CMD INSTALL clevRvis
StartedAt: 2024-11-19 21:07:53 -0000 (Tue, 19 Nov 2024)
EndedAt: 2024-11-19 21:08:06 -0000 (Tue, 19 Nov 2024)
EllapsedTime: 12.5 seconds
RetCode: 0
Status: OK