Package: clevRvis Version: 1.6.0 Command: rm -rf clevRvis.buildbin-libdir && mkdir clevRvis.buildbin-libdir && /Users/biocbuild/BBS/utils/build-universal.sh clevRvis_1.6.0.tar.gz /Library/Frameworks/R.framework/Resources/bin/R clevRvis.buildbin-libdir StartedAt: 2025-02-04 12:40:21 -0500 (Tue, 04 Feb 2025) EndedAt: 2025-02-04 12:40:45 -0500 (Tue, 04 Feb 2025) EllapsedTime: 24.0 seconds RetCode: 0 Status: OK PackageFile: clevRvis_1.6.0.tgz PackageFileSize: 2.656 MiB